BEGIN:VCALENDAR
VERSION:2.0
PRODID:-//Lauren Staton - ECPv6.0.12//NONSGML v1.0//EN
CALSCALE:GREGORIAN
METHOD:PUBLISH
X-ORIGINAL-URL:https://laurenstaton.com
X-WR-CALDESC:Events for Lauren Staton
REFRESH-INTERVAL;VALUE=DURATION:PT1H
X-Robots-Tag:noindex
X-PUBLISHED-TTL:PT1H
BEGIN:VTIMEZONE
TZID:Europe/Helsinki
BEGIN:DAYLIGHT
TZOFFSETFROM:+0200
TZOFFSETTO:+0300
TZNAME:EEST
DTSTART:20210328T010000
END:DAYLIGHT
BEGIN:STANDARD
TZOFFSETFROM:+0300
TZOFFSETTO:+0200
TZNAME:EET
DTSTART:20211031T010000
END:STANDARD
BEGIN:DAYLIGHT
TZOFFSETFROM:+0200
TZOFFSETTO:+0300
TZNAME:EEST
DTSTART:20220327T010000
END:DAYLIGHT
BEGIN:STANDARD
TZOFFSETFROM:+0300
TZOFFSETTO:+0200
TZNAME:EET
DTSTART:20221030T010000
END:STANDARD
END:VTIMEZONE
BEGIN:VEVENT
DTSTART;TZID=Europe/Helsinki:20211117T020000
DTEND;TZID=Europe/Helsinki:20211117T170000
DTSTAMP:20260421T212022
CREATED:20211020T164947Z
LAST-MODIFIED:20211020T164950Z
UID:4356-1637114400-1637168400@laurenstaton.com
SUMMARY:Swap Party
DESCRIPTION:A way to recycle your clothes knowing they will not end up on landfill sites. Clothes and fast fashion are responsible for a lot of toxic waste that is detrimental to the sustainability of the planet. We cannot change the world but together we can make a difference. Swapping our clothes instead of throwing them away is a responsible action to take. We invite you to bring your unwanted clothes to our swap party. We will give you a Daadi Tote bag as as part of the entrance fee
URL:https://laurenstaton.com/event/swap-party/
LOCATION:Alicante
ATTACH;FMTTYPE=image/jpeg:https://laurenstaton.com/wp-content/uploads/2021/10/swap-party-image.jpg
END:VEVENT
BEGIN:VEVENT
DTSTART;TZID=Europe/Helsinki:20220306T160000
DTEND;TZID=Europe/Helsinki:20220306T160000
DTSTAMP:20260421T212022
CREATED:20220218T133915Z
LAST-MODIFIED:20220219T113014Z
UID:4524-1646582400-1646582400@laurenstaton.com
SUMMARY:Afternoon Tea\, Casa Claudia
DESCRIPTION:Teapots and tablecloths\, Cakes and sandwiches\, all ritually displayed in a beautiful setting overlooking the Jalon Valley. This is a wonderful way to finish off the weekend. Combine it with a lovely stroll through the Jalon Valley Or treat your mum to a high tea. Whatever the celebration\, come and join us for the first one.  \n\n\n\n\n\n \n\n\n\n15 Euros per head\, You can pay on the day but you MUST pre-book. \n\n\n\nPlease click link to our event page and let us know if you are attending by pressing the GOING button. https://www.facebook.com/events/631288291451907 \n\n\n\n \n\n\n\n\n\n\n\n\n\n\n\n\n\n\n\n\n\n\n\n\nhttps://www.facebook.com/events/631288291451907
URL:https://laurenstaton.com/event/afternoon-tea-casa-claudia/
LOCATION:Alicante
ATTACH;FMTTYPE=image/jpeg:https://laurenstaton.com/wp-content/uploads/2022/02/274132151_249805040680415_1249679482110980161_n.jpeg
END:VEVENT
BEGIN:VEVENT
DTSTART;TZID=Europe/Helsinki:20220402T100000
DTEND;TZID=Europe/Helsinki:20220402T150000
DTSTAMP:20260421T212022
CREATED:20220219T115756Z
LAST-MODIFIED:20220321T203010Z
UID:4536-1648893600-1648911600@laurenstaton.com
SUMMARY:ART CAFE - COSTA BLANCA ARTISTS. Casa Claudia's Xalo.
DESCRIPTION:The Costa Blanca is an inspiring place to paint and explore creativity. \n\n\n\nNot only is it one of the most spectacular locations for beautiful scenery but you can feel a freedom of spirit here. It is no wonder artists come here to live and visit\, there is much to catch the eye and the soul.  \n\n\n\nWe are delighted to host this event and present so many creative people in one place showcasing their incredible talent. You are invited to browse\, talk to the artists and hopefully take home a piece of art you will come to treasure. Please mark yourself down as GOING so we can prepare for the right number of guests.   \n\n\n\n \n\n\n\nThis is our first exhibition in the Art Cafe\, showcasing some of the following artists.  It is a free event and will take place on the terrace overlooking the busy Saturday Jalon Market. You can relax in the cafe and enjoy some tasty snacks and refreshments.  \n\n\n\n \n\n\n\n \n\n\n\n \n\n\n\n\n\n\n\n\n\nLauren StatonDonna Rana\n\n\n\n\n\n\n\nDenise BrownAletta Van Arent\n\n\n\nStephanie WhiteTrudie Slade\n\n\n\nPauline Gray\n\n\n\nHelma Van Blokland\n\n\n\nDonna Rana
URL:https://laurenstaton.com/event/art-cafe-costa-blanca-artists/
LOCATION:Casa Claudia\, Avinguda Rei Juan Carlos I\, 45-47\, Jalón\, Alicante\, 03727\, Spain
ATTACH;FMTTYPE=image/jpeg:https://laurenstaton.com/wp-content/uploads/2022/02/Costa-Blanca-Artists.jpeg
END:VEVENT
END:VCALENDAR