BEGIN:VCALENDAR
VERSION:2.0
PRODID:-//Lauren Staton - ECPv6.0.12//NONSGML v1.0//EN
CALSCALE:GREGORIAN
METHOD:PUBLISH
X-WR-CALNAME:Lauren Staton
X-ORIGINAL-URL:https://laurenstaton.com
X-WR-CALDESC:Events for Lauren Staton
REFRESH-INTERVAL;VALUE=DURATION:PT1H
X-Robots-Tag:noindex
X-PUBLISHED-TTL:PT1H
BEGIN:VTIMEZONE
TZID:Europe/Madrid
BEGIN:DAYLIGHT
TZOFFSETFROM:+0100
TZOFFSETTO:+0200
TZNAME:CEST
DTSTART:20210328T010000
END:DAYLIGHT
BEGIN:STANDARD
TZOFFSETFROM:+0200
TZOFFSETTO:+0100
TZNAME:CET
DTSTART:20211031T010000
END:STANDARD
END:VTIMEZONE
BEGIN:VEVENT
DTSTART;TZID=Europe/Madrid:20210928T120000
DTEND;TZID=Europe/Madrid:20210928T140000
DTSTAMP:20260421T053821
CREATED:20210711T152511Z
LAST-MODIFIED:20210920T070049Z
UID:4131-1632830400-1632837600@laurenstaton.com
SUMMARY:COTTON ON
DESCRIPTION:Fast Fashion is the 4th largest polluter on our planet. Do you know the true cost of your clothes. This is a presentation of a very special journey and one pair of trousers. You will never feel the same about what you wear. A healthy lunch is available following this free presentation.
URL:https://laurenstaton.com/event/cotton-on/
LOCATION:Casa Club Claudia\, Av.Rey Juan Carlos 1. 45-47 Jalon 03727\, Alicante\, Spain
ATTACH;FMTTYPE=image/png:https://laurenstaton.com/wp-content/uploads/2021/07/Daadi-Purity-1.png
END:VEVENT
END:VCALENDAR