BEGIN:VCALENDAR
VERSION:2.0
PRODID:-//Lauren Staton - ECPv6.0.12//NONSGML v1.0//EN
CALSCALE:GREGORIAN
METHOD:PUBLISH
X-WR-CALNAME:Lauren Staton
X-ORIGINAL-URL:https://laurenstaton.com
X-WR-CALDESC:Events for Lauren Staton
REFRESH-INTERVAL;VALUE=DURATION:PT1H
X-Robots-Tag:noindex
X-PUBLISHED-TTL:PT1H
BEGIN:VTIMEZONE
TZID:Europe/Madrid
BEGIN:DAYLIGHT
TZOFFSETFROM:+0100
TZOFFSETTO:+0200
TZNAME:CEST
DTSTART:20210328T010000
END:DAYLIGHT
BEGIN:STANDARD
TZOFFSETFROM:+0200
TZOFFSETTO:+0100
TZNAME:CET
DTSTART:20211031T010000
END:STANDARD
END:VTIMEZONE
BEGIN:VEVENT
DTSTART;TZID=Europe/Madrid:20210721T110000
DTEND;TZID=Europe/Madrid:20210721T140000
DTSTAMP:20260421T062550
CREATED:20210707T021650Z
LAST-MODIFIED:20210716T164256Z
UID:3967-1626865200-1626876000@laurenstaton.com
SUMMARY:Salad Chat
DESCRIPTION:‘Kurt’ the Salad King is back\, demonstrating some nutritional magic. If you missed it last time\, BOOK NOW! It was a great event. We will be offering a healthy brunch again with tea or coffee.
URL:https://laurenstaton.com/event/salad-chat/
LOCATION:Casa Claudia\, Avinguda Rei Juan Carlos I\, 45-47\, Jalón\, Alicante\, 03727\, Spain
CATEGORIES:Events in Spain
ATTACH;FMTTYPE=image/jpeg:https://laurenstaton.com/wp-content/uploads/2021/07/Salad-Chat.jpeg
END:VEVENT
END:VCALENDAR